BEGIN:VCALENDAR
VERSION:2.0
PRODID:-//The Cormac McCarthy Study Group - ECPv6.2.9//NONSGML v1.0//EN
CALSCALE:GREGORIAN
METHOD:PUBLISH
X-WR-CALNAME:The Cormac McCarthy Study Group
X-ORIGINAL-URL:https://mccarthystudygroup.com
X-WR-CALDESC:Events for The Cormac McCarthy Study Group
REFRESH-INTERVAL;VALUE=DURATION:PT1H
X-Robots-Tag:noindex
X-PUBLISHED-TTL:PT1H
BEGIN:VTIMEZONE
TZID:UTC
BEGIN:STANDARD
TZOFFSETFROM:+0000
TZOFFSETTO:+0000
TZNAME:UTC
DTSTART:20240101T000000
END:STANDARD
END:VTIMEZONE
BEGIN:VEVENT
DTSTART;TZID=UTC:20240720T150000
DTEND;TZID=UTC:20240720T170000
DTSTAMP:20260419T222832
CREATED:20240116T150913Z
LAST-MODIFIED:20240116T165614Z
UID:156-1721487600-1721494800@mccarthystudygroup.com
SUMMARY:McCarthy's Birthday
DESCRIPTION:A discussion of the author’s life and work on his birthday.  To join us\, send an email introducing yourself to post@mccarthystudygroup.com.
URL:https://mccarthystudygroup.com/index.php/event/mccarthys-birthday/
END:VEVENT
END:VCALENDAR